BEGIN:VCALENDAR
VERSION:2.0
PRODID:-//Debodelices - ECPv6.8.0//NONSGML v1.0//EN
CALSCALE:GREGORIAN
METHOD:PUBLISH
X-WR-CALNAME:Debodelices
X-ORIGINAL-URL:https://debodelices.fr
X-WR-CALDESC:Évènements pour Debodelices
REFRESH-INTERVAL;VALUE=DURATION:PT1H
X-Robots-Tag:noindex
X-PUBLISHED-TTL:PT1H
BEGIN:VTIMEZONE
TZID:UTC
BEGIN:STANDARD
TZOFFSETFROM:+0000
TZOFFSETTO:+0000
TZNAME:UTC
DTSTART:20260101T000000
END:STANDARD
END:VTIMEZONE
BEGIN:VEVENT
DTSTART;TZID=UTC:20260504T093000
DTEND;TZID=UTC:20260504T123000
DTSTAMP:20260421T141418
CREATED:20260315T102723Z
LAST-MODIFIED:20260315T103311Z
UID:10000074-1777887000-1777897800@debodelices.fr
SUMMARY:THE TEA TIME
DESCRIPTION:
URL:https://debodelices.fr/event/the-tea-time-14/
ATTACH;FMTTYPE=image/jpeg:https://debodelices.fr/wp-content/uploads/2024/12/Debodelice-background.jpg
END:VEVENT
BEGIN:VEVENT
DTSTART;TZID=UTC:20260506T150000
DTEND;TZID=UTC:20260506T170000
DTSTAMP:20260421T141418
CREATED:20260315T103623Z
LAST-MODIFIED:20260315T103623Z
UID:10000075-1778079600-1778086800@debodelices.fr
SUMMARY:NUMBER CAKE DUO PARENT/ENFANT
DESCRIPTION:
URL:https://debodelices.fr/event/number-cake-duo-parent-enfant-3/
ATTACH;FMTTYPE=image/jpeg:https://debodelices.fr/wp-content/uploads/2024/12/thumbnail_IMG_7822-scaled.jpg
END:VEVENT
BEGIN:VEVENT
DTSTART;TZID=UTC:20260518T093000
DTEND;TZID=UTC:20260518T123000
DTSTAMP:20260421T141418
CREATED:20260315T104120Z
LAST-MODIFIED:20260407T183317Z
UID:10000076-1779096600-1779107400@debodelices.fr
SUMMARY:LA MANGUE ET LA FRAMBOISE EN TROMPE L'OEIL
DESCRIPTION:
URL:https://debodelices.fr/event/la-mangue-et-la-framboise-en-trompe-loeil-3/
ATTACH;FMTTYPE=image/jpeg:https://debodelices.fr/wp-content/uploads/2026/03/IMG_3439.jpg
END:VEVENT
END:VCALENDAR