BEGIN:VCALENDAR
VERSION:2.0
PRODID:-//Debodelices - ECPv6.8.0//NONSGML v1.0//EN
CALSCALE:GREGORIAN
METHOD:PUBLISH
X-ORIGINAL-URL:https://debodelices.fr
X-WR-CALDESC:Évènements pour Debodelices
REFRESH-INTERVAL;VALUE=DURATION:PT1H
X-Robots-Tag:noindex
X-PUBLISHED-TTL:PT1H
BEGIN:VTIMEZONE
TZID:UTC
BEGIN:STANDARD
TZOFFSETFROM:+0000
TZOFFSETTO:+0000
TZNAME:UTC
DTSTART:20260101T000000
END:STANDARD
END:VTIMEZONE
BEGIN:VEVENT
DTSTART;TZID=UTC:20260304T143000
DTEND;TZID=UTC:20260304T163000
DTSTAMP:20260421T141521
CREATED:20260202T080757Z
LAST-MODIFIED:20260202T080757Z
UID:10000062-1772634600-1772641800@debodelices.fr
SUMMARY:THE COOKIES ET PATE A TARTINER MAISON
DESCRIPTION:
URL:https://debodelices.fr/event/the-cookies-et-pate-a-tartiner-maison-7/
ATTACH;FMTTYPE=image/jpeg:https://debodelices.fr/wp-content/uploads/2026/02/IMG_2254-2.jpg
END:VEVENT
BEGIN:VEVENT
DTSTART;TZID=UTC:20260309T100000
DTEND;TZID=UTC:20260309T120000
DTSTAMP:20260421T141521
CREATED:20260205T071258Z
LAST-MODIFIED:20260205T071258Z
UID:10000064-1773050400-1773057600@debodelices.fr
SUMMARY:THE COOKIE ET PATE A TARTINER MAISON
DESCRIPTION:
URL:https://debodelices.fr/event/the-cookie-et-pate-a-tartiner-maison/
ATTACH;FMTTYPE=image/jpeg:https://debodelices.fr/wp-content/uploads/2026/02/IMG_2254-2.jpg
END:VEVENT
BEGIN:VEVENT
DTSTART;TZID=UTC:20260311T143000
DTEND;TZID=UTC:20260311T163000
DTSTAMP:20260421T141521
CREATED:20260202T081036Z
LAST-MODIFIED:20260202T081036Z
UID:10000063-1773239400-1773246600@debodelices.fr
SUMMARY:THE TEA TIME
DESCRIPTION:
URL:https://debodelices.fr/event/the-tea-time-12/
ATTACH;FMTTYPE=image/jpeg:https://debodelices.fr/wp-content/uploads/2024/12/Debodelice-background.jpg
END:VEVENT
BEGIN:VEVENT
DTSTART;TZID=UTC:20260316T090000
DTEND;TZID=UTC:20260316T120000
DTSTAMP:20260421T141521
CREATED:20260205T071624Z
LAST-MODIFIED:20260205T071624Z
UID:10000065-1773651600-1773662400@debodelices.fr
SUMMARY:THE TEA TIME
DESCRIPTION:
URL:https://debodelices.fr/event/the-tea-time-13/
ATTACH;FMTTYPE=image/jpeg:https://debodelices.fr/wp-content/uploads/2024/12/Debodelice-background.jpg
END:VEVENT
BEGIN:VEVENT
DTSTART;TZID=UTC:20260318T143000
DTEND;TZID=UTC:20260318T163000
DTSTAMP:20260421T141521
CREATED:20260205T073557Z
LAST-MODIFIED:20260205T073557Z
UID:10000067-1773844200-1773851400@debodelices.fr
SUMMARY:NUMBER CAKE DUO PARENT / ENFANT
DESCRIPTION:
URL:https://debodelices.fr/event/number-cake-duo-parent-enfant-2/
ATTACH;FMTTYPE=image/jpeg:https://debodelices.fr/wp-content/uploads/2024/12/thumbnail_IMG_7822-scaled.jpg
END:VEVENT
BEGIN:VEVENT
DTSTART;TZID=UTC:20260323T100000
DTEND;TZID=UTC:20260323T120000
DTSTAMP:20260421T141521
CREATED:20260205T073100Z
LAST-MODIFIED:20260205T073100Z
UID:10000066-1774260000-1774267200@debodelices.fr
SUMMARY:NUMBER CAKE
DESCRIPTION:
URL:https://debodelices.fr/event/number-cake/
ATTACH;FMTTYPE=image/jpeg:https://debodelices.fr/wp-content/uploads/2024/12/thumbnail_IMG_7822-scaled.jpg
END:VEVENT
BEGIN:VEVENT
DTSTART;TZID=UTC:20260325T143000
DTEND;TZID=UTC:20260325T163000
DTSTAMP:20260421T141521
CREATED:20260205T075133Z
LAST-MODIFIED:20260205T075133Z
UID:10000069-1774449000-1774456200@debodelices.fr
SUMMARY:THE COOKIES ET PATE A TARTINER MAISON
DESCRIPTION:
URL:https://debodelices.fr/event/the-cookies-et-pate-a-tartiner-maison-8/
ATTACH;FMTTYPE=image/jpeg:https://debodelices.fr/wp-content/uploads/2026/02/IMG_2254-2.jpg
END:VEVENT
BEGIN:VEVENT
DTSTART;TZID=UTC:20260330T090000
DTEND;TZID=UTC:20260330T120000
DTSTAMP:20260421T141521
CREATED:20260205T074850Z
LAST-MODIFIED:20260205T074850Z
UID:10000068-1774861200-1774872000@debodelices.fr
SUMMARY:TARTE AUX FRUITS DE SAISON
DESCRIPTION:
URL:https://debodelices.fr/event/tarte-aux-fruits-de-saison-7/
ATTACH;FMTTYPE=image/png:https://debodelices.fr/wp-content/uploads/2024/10/img-2-1.png
END:VEVENT
END:VCALENDAR