BEGIN:VCALENDAR
VERSION:2.0
PRODID:-//Debodelices - ECPv6.8.0//NONSGML v1.0//EN
CALSCALE:GREGORIAN
METHOD:PUBLISH
X-WR-CALNAME:Debodelices
X-ORIGINAL-URL:https://debodelices.fr
X-WR-CALDESC:Évènements pour Debodelices
REFRESH-INTERVAL;VALUE=DURATION:PT1H
X-Robots-Tag:noindex
X-PUBLISHED-TTL:PT1H
BEGIN:VTIMEZONE
TZID:UTC
BEGIN:STANDARD
TZOFFSETFROM:+0000
TZOFFSETTO:+0000
TZNAME:UTC
DTSTART:20250101T000000
END:STANDARD
END:VTIMEZONE
BEGIN:VEVENT
DTSTART;TZID=UTC:20251203T150000
DTEND;TZID=UTC:20251203T170000
DTSTAMP:20260421T193320
CREATED:20251116T100413Z
LAST-MODIFIED:20251116T100531Z
UID:10000052-1764774000-1764781200@debodelices.fr
SUMMARY:BREDELE DE NOEL
DESCRIPTION:
URL:https://debodelices.fr/event/bredele-de-noel/
ATTACH;FMTTYPE=image/heic:https://debodelices.fr/wp-content/uploads/2025/11/IMG_2150.heic
END:VEVENT
BEGIN:VEVENT
DTSTART;TZID=UTC:20251210T143000
DTEND;TZID=UTC:20251210T163000
DTSTAMP:20260421T193320
CREATED:20251116T101100Z
LAST-MODIFIED:20251116T101318Z
UID:10000053-1765377000-1765384200@debodelices.fr
SUMMARY:BREDELE DE NOEL COURS ENFANT
DESCRIPTION:
URL:https://debodelices.fr/event/bredele-de-noel-cours-enfant/
ATTACH;FMTTYPE=image/heic:https://debodelices.fr/wp-content/uploads/2025/11/IMG_2150.heic
END:VEVENT
BEGIN:VEVENT
DTSTART;TZID=UTC:20251217T150000
DTEND;TZID=UTC:20251217T170000
DTSTAMP:20260421T193320
CREATED:20251116T102622Z
LAST-MODIFIED:20251201T183729Z
UID:10000054-1765983600-1765990800@debodelices.fr
SUMMARY:NUMBER CAKE DE NOEL DUO PARENT/ENFANT ( 3 à 7 ans)
DESCRIPTION:
URL:https://debodelices.fr/event/number-cake-de-noel-duo-parent-enfant-3-a-7-ans/
ATTACH;FMTTYPE=image/jpeg:https://debodelices.fr/wp-content/uploads/2025/11/IMG_2253.jpg
END:VEVENT
END:VCALENDAR