BEGIN:VCALENDAR
VERSION:2.0
PRODID:-//Debodelices - ECPv6.8.0//NONSGML v1.0//EN
CALSCALE:GREGORIAN
METHOD:PUBLISH
X-ORIGINAL-URL:https://debodelices.fr
X-WR-CALDESC:Évènements pour Debodelices
REFRESH-INTERVAL;VALUE=DURATION:PT1H
X-Robots-Tag:noindex
X-PUBLISHED-TTL:PT1H
BEGIN:VTIMEZONE
TZID:UTC
BEGIN:STANDARD
TZOFFSETFROM:+0000
TZOFFSETTO:+0000
TZNAME:UTC
DTSTART:20250101T000000
END:STANDARD
END:VTIMEZONE
BEGIN:VEVENT
DTSTART;TZID=UTC:20250604T150000
DTEND;TZID=UTC:20250604T170000
DTSTAMP:20260422T062959
CREATED:20250506T061957Z
LAST-MODIFIED:20250506T061957Z
UID:10000032-1749049200-1749056400@debodelices.fr
SUMMARY:THE COOKIES ET PATE A TARTINER MAISON- ENFANT
DESCRIPTION:
URL:https://debodelices.fr/event/the-cookies-et-pate-a-tartiner-maison-enfant-2/
ATTACH;FMTTYPE=image/png:https://debodelices.fr/wp-content/uploads/2024/10/img-4-13.png
END:VEVENT
BEGIN:VEVENT
DTSTART;TZID=UTC:20250611T150000
DTEND;TZID=UTC:20250611T170000
DTSTAMP:20260422T062959
CREATED:20250506T063045Z
LAST-MODIFIED:20250506T063605Z
UID:10000034-1749654000-1749661200@debodelices.fr
SUMMARY:LE NUMBER CAKE-COURS DUO PARENT/ENFANT(3 à 7 ans)
DESCRIPTION:
URL:https://debodelices.fr/event/le-number-cake-cours-duo-parent-enfant3-a-7-ans/
ATTACH;FMTTYPE=image/jpeg:https://debodelices.fr/wp-content/uploads/2024/12/thumbnail_IMG_7822-scaled.jpg
END:VEVENT
BEGIN:VEVENT
DTSTART;TZID=UTC:20250613T093000
DTEND;TZID=UTC:20250613T123000
DTSTAMP:20260422T062959
CREATED:20250506T062618Z
LAST-MODIFIED:20250506T062618Z
UID:10000033-1749807000-1749817800@debodelices.fr
SUMMARY:TARTE AUX FRUITS DE SAISON
DESCRIPTION:
URL:https://debodelices.fr/event/tarte-aux-fruits-de-saison-6/
ATTACH;FMTTYPE=image/png:https://debodelices.fr/wp-content/uploads/2024/10/img-2-1.png
END:VEVENT
BEGIN:VEVENT
DTSTART;TZID=UTC:20250618T150000
DTEND;TZID=UTC:20250618T170000
DTSTAMP:20260422T062959
CREATED:20250506T063359Z
LAST-MODIFIED:20250506T063359Z
UID:10000035-1750258800-1750266000@debodelices.fr
SUMMARY:THE COOKIES ET PATE A TARTINER MAISON-ENFANT
DESCRIPTION:
URL:https://debodelices.fr/event/the-cookies-et-pate-a-tartiner-maison-enfant-3/
ATTACH;FMTTYPE=image/png:https://debodelices.fr/wp-content/uploads/2024/10/img-4-13.png
END:VEVENT
BEGIN:VEVENT
DTSTART;TZID=UTC:20250625T150000
DTEND;TZID=UTC:20250625T170000
DTSTAMP:20260422T062959
CREATED:20250619T075140Z
LAST-MODIFIED:20250619T075140Z
UID:10000036-1750863600-1750870800@debodelices.fr
SUMMARY:THE COOKIES ET PATE A TARTINER MAISON
DESCRIPTION:
URL:https://debodelices.fr/event/the-cookies-et-pate-a-tartiner-maison-5/
ATTACH;FMTTYPE=image/png:https://debodelices.fr/wp-content/uploads/2024/10/img-4-13.png
END:VEVENT
END:VCALENDAR