BEGIN:VCALENDAR
VERSION:2.0
PRODID:-//Debodelices - ECPv6.8.0//NONSGML v1.0//EN
CALSCALE:GREGORIAN
METHOD:PUBLISH
X-WR-CALNAME:Debodelices
X-ORIGINAL-URL:https://debodelices.fr
X-WR-CALDESC:Évènements pour Debodelices
REFRESH-INTERVAL;VALUE=DURATION:PT1H
X-Robots-Tag:noindex
X-PUBLISHED-TTL:PT1H
BEGIN:VTIMEZONE
TZID:UTC
BEGIN:STANDARD
TZOFFSETFROM:+0000
TZOFFSETTO:+0000
TZNAME:UTC
DTSTART:20250101T000000
END:STANDARD
END:VTIMEZONE
BEGIN:VEVENT
DTSTART;TZID=UTC:20250502T090000
DTEND;TZID=UTC:20250502T120000
DTSTAMP:20260422T082802
CREATED:20250410T154907Z
LAST-MODIFIED:20250410T155332Z
UID:10000026-1746176400-1746187200@debodelices.fr
SUMMARY:The tea time
DESCRIPTION:
URL:https://debodelices.fr/event/the-tea-time-4/
ATTACH;FMTTYPE=image/jpeg:https://debodelices.fr/wp-content/uploads/2024/12/Debodelice-background.jpg
END:VEVENT
BEGIN:VEVENT
DTSTART;TZID=UTC:20250516T093000
DTEND;TZID=UTC:20250516T123000
DTSTAMP:20260422T082802
CREATED:20250505T064034Z
LAST-MODIFIED:20250505T064034Z
UID:10000029-1747387800-1747398600@debodelices.fr
SUMMARY:TARTE AUX FRUITS DE SAISON
DESCRIPTION:
URL:https://debodelices.fr/event/tarte-aux-fruits-de-saison-5/
ATTACH;FMTTYPE=image/png:https://debodelices.fr/wp-content/uploads/2024/10/img-2-51.png
END:VEVENT
BEGIN:VEVENT
DTSTART;TZID=UTC:20250521T150000
DTEND;TZID=UTC:20250521T170000
DTSTAMP:20260422T082802
CREATED:20250505T063632Z
LAST-MODIFIED:20250505T063632Z
UID:10000028-1747839600-1747846800@debodelices.fr
SUMMARY:THE COOKIES ET PATE A TARTINER-ENFANT
DESCRIPTION:
URL:https://debodelices.fr/event/the-cookies-et-pate-a-tartiner-enfant/
ATTACH;FMTTYPE=image/png:https://debodelices.fr/wp-content/uploads/2024/10/img-4-13.png
END:VEVENT
BEGIN:VEVENT
DTSTART;TZID=UTC:20250523T093000
DTEND;TZID=UTC:20250523T123000
DTSTAMP:20260422T082802
CREATED:20250505T064334Z
LAST-MODIFIED:20250505T064334Z
UID:10000030-1747992600-1748003400@debodelices.fr
SUMMARY:THE TEA TIME
DESCRIPTION:
URL:https://debodelices.fr/event/the-tea-time-5/
ATTACH;FMTTYPE=image/jpeg:https://debodelices.fr/wp-content/uploads/2024/12/Debodelice-background.jpg
END:VEVENT
BEGIN:VEVENT
DTSTART;TZID=UTC:20250528T150000
DTEND;TZID=UTC:20250528T170000
DTSTAMP:20260422T082802
CREATED:20250505T064643Z
LAST-MODIFIED:20250505T064643Z
UID:10000031-1748444400-1748451600@debodelices.fr
SUMMARY:MAGNUM CAKE-COURS DUO PARENT/ENFANT
DESCRIPTION:
URL:https://debodelices.fr/event/magnum-cake-cours-duo-parent-enfant/
ATTACH;FMTTYPE=image/png:https://debodelices.fr/wp-content/uploads/2024/10/img-1-48.png
END:VEVENT
END:VCALENDAR