BEGIN:VCALENDAR
VERSION:2.0
PRODID:-//Debodelices - ECPv6.8.0//NONSGML v1.0//EN
CALSCALE:GREGORIAN
METHOD:PUBLISH
X-WR-CALNAME:Debodelices
X-ORIGINAL-URL:https://debodelices.fr
X-WR-CALDESC:Évènements pour Debodelices
REFRESH-INTERVAL;VALUE=DURATION:PT1H
X-Robots-Tag:noindex
X-PUBLISHED-TTL:PT1H
BEGIN:VTIMEZONE
TZID:UTC
BEGIN:STANDARD
TZOFFSETFROM:+0000
TZOFFSETTO:+0000
TZNAME:UTC
DTSTART:20250101T000000
END:STANDARD
END:VTIMEZONE
BEGIN:VEVENT
DTSTART;TZID=UTC:20250402T150000
DTEND;TZID=UTC:20250402T170000
DTSTAMP:20260422T114134
CREATED:20250324T073256Z
LAST-MODIFIED:20250324T073422Z
UID:10000023-1743606000-1743613200@debodelices.fr
SUMMARY:THE COOKIES ET PATE A TARTINER MAISON
DESCRIPTION:
URL:https://debodelices.fr/event/the-cookies-et-pate-a-tartiner-maison-4/
ATTACH;FMTTYPE=image/png:https://debodelices.fr/wp-content/uploads/2024/10/img-4-13.png
END:VEVENT
BEGIN:VEVENT
DTSTART;TZID=UTC:20250423T150000
DTEND;TZID=UTC:20250423T180000
DTSTAMP:20260422T114134
CREATED:20250324T074022Z
LAST-MODIFIED:20250324T074104Z
UID:10000024-1745420400-1745431200@debodelices.fr
SUMMARY:TARTE AUX FRUITS DE SAISON
DESCRIPTION:
URL:https://debodelices.fr/event/tarte-aux-fruits-de-saison-4/
ATTACH;FMTTYPE=image/jpeg:https://debodelices.fr/wp-content/uploads/2024/12/DSC4449.jpg
END:VEVENT
BEGIN:VEVENT
DTSTART;TZID=UTC:20250424T180000
DTEND;TZID=UTC:20250424T210000
DTSTAMP:20260422T114134
CREATED:20250401T061800Z
LAST-MODIFIED:20250401T061800Z
UID:10000025-1745517600-1745528400@debodelices.fr
SUMMARY:TEAM BUILDING
DESCRIPTION:
URL:https://debodelices.fr/event/team-building/
ATTACH;FMTTYPE=image/jpeg:https://debodelices.fr/wp-content/uploads/2024/12/thumbnail_056C5459-44E2-4B25-8338-4B2FB03336D6.jpg
END:VEVENT
BEGIN:VEVENT
DTSTART;TZID=UTC:20250430T150000
DTEND;TZID=UTC:20250430T170000
DTSTAMP:20260422T114134
CREATED:20250410T155851Z
LAST-MODIFIED:20250410T155851Z
UID:10000027-1746025200-1746032400@debodelices.fr
SUMMARY:The cookies et pate à tartiner maison enfant
DESCRIPTION:
URL:https://debodelices.fr/event/the-cookies-et-pate-a-tartiner-maison-enfant/
ATTACH;FMTTYPE=image/png:https://debodelices.fr/wp-content/uploads/2024/10/img-4-13.png
END:VEVENT
END:VCALENDAR