BEGIN:VCALENDAR
VERSION:2.0
PRODID:-//Debodelices - ECPv6.8.0//NONSGML v1.0//EN
CALSCALE:GREGORIAN
METHOD:PUBLISH
X-ORIGINAL-URL:https://debodelices.fr
X-WR-CALDESC:Évènements pour Debodelices
REFRESH-INTERVAL;VALUE=DURATION:PT1H
X-Robots-Tag:noindex
X-PUBLISHED-TTL:PT1H
BEGIN:VTIMEZONE
TZID:UTC
BEGIN:STANDARD
TZOFFSETFROM:+0000
TZOFFSETTO:+0000
TZNAME:UTC
DTSTART:20250101T000000
END:STANDARD
END:VTIMEZONE
BEGIN:VEVENT
DTSTART;TZID=UTC:20250305T150000
DTEND;TZID=UTC:20250305T170000
DTSTAMP:20260422T115821
CREATED:20250224T072257Z
LAST-MODIFIED:20250224T072257Z
UID:10000020-1741186800-1741194000@debodelices.fr
SUMMARY:THE COOKIES ET PATE A TARTINER MAISON
DESCRIPTION:
URL:https://debodelices.fr/event/the-cookies-et-pate-a-tartiner-maison-2/
ATTACH;FMTTYPE=image/png:https://debodelices.fr/wp-content/uploads/2024/10/img-4-13.png
END:VEVENT
BEGIN:VEVENT
DTSTART;TZID=UTC:20250312T150000
DTEND;TZID=UTC:20250312T170000
DTSTAMP:20260422T115821
CREATED:20250204T073637Z
LAST-MODIFIED:20250204T074943Z
UID:10000018-1741791600-1741798800@debodelices.fr
SUMMARY:Cours duo 1 parent + 1 enfant (de 3 à 6 ans) "le number Cake" DESCRIPTION:
URL:https://debodelices.fr/event/cours-duo-1-parent-1-enfant-de-3-a-6-ans-le-number-cake-3/
ATTACH;FMTTYPE=image/jpeg:https://debodelices.fr/wp-content/uploads/2024/12/thumbnail_IMG_7822-scaled.jpg
END:VEVENT
BEGIN:VEVENT
DTSTART;TZID=UTC:20250319T150000
DTEND;TZID=UTC:20250319T170000
DTSTAMP:20260422T115821
CREATED:20250307T073154Z
LAST-MODIFIED:20250307T073250Z
UID:10000021-1742396400-1742403600@debodelices.fr
SUMMARY:THE COOKIES ET PATE A TARTINER MAISON
DESCRIPTION:
URL:https://debodelices.fr/event/the-cookies-et-pate-a-tartiner-maison-3/
ATTACH;FMTTYPE=image/png:https://debodelices.fr/wp-content/uploads/2024/10/img-4-13.png
END:VEVENT
BEGIN:VEVENT
DTSTART;TZID=UTC:20250326T150000
DTEND;TZID=UTC:20250326T170000
DTSTAMP:20260422T115821
CREATED:20250224T071621Z
LAST-MODIFIED:20250224T071621Z
UID:10000019-1743001200-1743008400@debodelices.fr
SUMMARY:COURS DUO PARENT-ENFANT: LE MAGNUM CAKE
DESCRIPTION:
URL:https://debodelices.fr/event/cours-duo-parent-enfant-le-magnum-cake/
ATTACH;FMTTYPE=image/png:https://debodelices.fr/wp-content/uploads/2024/10/img-1-48.png
END:VEVENT
BEGIN:VEVENT
DTSTART;TZID=UTC:20250328T090000
DTEND;TZID=UTC:20250328T120000
DTSTAMP:20260422T115821
CREATED:20250307T073643Z
LAST-MODIFIED:20250307T073643Z
UID:10000022-1743152400-1743163200@debodelices.fr
SUMMARY:THE TEA TIME
DESCRIPTION:
URL:https://debodelices.fr/event/the-tea-time-3/
ATTACH;FMTTYPE=image/jpeg:https://debodelices.fr/wp-content/uploads/2024/12/Debodelice-background.jpg
END:VEVENT
END:VCALENDAR