BEGIN:VCALENDAR
VERSION:2.0
PRODID:-//Debodelices - ECPv6.8.0//NONSGML v1.0//EN
CALSCALE:GREGORIAN
METHOD:PUBLISH
X-ORIGINAL-URL:https://debodelices.fr
X-WR-CALDESC:Évènements pour Debodelices
REFRESH-INTERVAL;VALUE=DURATION:PT1H
X-Robots-Tag:noindex
X-PUBLISHED-TTL:PT1H
BEGIN:VTIMEZONE
TZID:UTC
BEGIN:STANDARD
TZOFFSETFROM:+0000
TZOFFSETTO:+0000
TZNAME:UTC
DTSTART:20250101T000000
END:STANDARD
END:VTIMEZONE
BEGIN:VEVENT
DTSTART;TZID=UTC:20250205T150000
DTEND;TZID=UTC:20250205T170000
DTSTAMP:20260422T133953
CREATED:20241203T071456Z
LAST-MODIFIED:20250128T081225Z
UID:10000016-1738767600-1738774800@debodelices.fr
SUMMARY:Cours enfant (à partir de 7 ans) "The cookies et pâte à tartiner maison" DESCRIPTION:
URL:https://debodelices.fr/event/cours-enfant-a-partir-de-7-ans-the-cookies-et-pate-a-tartiner-maison/
ATTACH;FMTTYPE=image/png:https://debodelices.fr/wp-content/uploads/2024/10/img-4-13.png
END:VEVENT
BEGIN:VEVENT
DTSTART;TZID=UTC:20250207T090000
DTEND;TZID=UTC:20250207T120000
DTSTAMP:20260422T133953
CREATED:20241203T071326Z
LAST-MODIFIED:20241205T092059Z
UID:10000015-1738918800-1738929600@debodelices.fr
SUMMARY:TARTE AUX FRUITS DE SAISON
DESCRIPTION:
URL:https://debodelices.fr/event/tarte-aux-fruits-de-saison-3/
ATTACH;FMTTYPE=image/png:https://debodelices.fr/wp-content/uploads/2024/10/img-2-1.png
END:VEVENT
BEGIN:VEVENT
DTSTART;TZID=UTC:20250226T150000
DTEND;TZID=UTC:20250226T170000
DTSTAMP:20260422T133953
CREATED:20250128T073603Z
LAST-MODIFIED:20250128T080903Z
UID:10000017-1740582000-1740589200@debodelices.fr
SUMMARY:THE COOKIES ET PATE A TARTINER MAISON en DUO ( parent-enfant)
DESCRIPTION:
URL:https://debodelices.fr/event/the-cookies-et-pate-a-tartiner-maison/
ATTACH;FMTTYPE=image/png:https://debodelices.fr/wp-content/uploads/2024/10/img-4-13.png
END:VEVENT
END:VCALENDAR