BEGIN:VCALENDAR
VERSION:2.0
PRODID:-//Debodelices - ECPv6.8.0//NONSGML v1.0//EN
CALSCALE:GREGORIAN
METHOD:PUBLISH
X-ORIGINAL-URL:https://debodelices.fr
X-WR-CALDESC:Évènements pour Debodelices
REFRESH-INTERVAL;VALUE=DURATION:PT1H
X-Robots-Tag:noindex
X-PUBLISHED-TTL:PT1H
BEGIN:VTIMEZONE
TZID:UTC
BEGIN:STANDARD
TZOFFSETFROM:+0000
TZOFFSETTO:+0000
TZNAME:UTC
DTSTART:20260101T000000
END:STANDARD
END:VTIMEZONE
BEGIN:VEVENT
DTSTART;TZID=UTC:20260408T150000
DTEND;TZID=UTC:20260408T170000
DTSTAMP:20260421T141506
CREATED:20260315T101501Z
LAST-MODIFIED:20260331T175026Z
UID:10000073-1775660400-1775667600@debodelices.fr
SUMMARY:LA MANGUE EN TROMPE L'OEIL ( A PARTIR DE 10 ANS)
DESCRIPTION:
URL:https://debodelices.fr/event/la-mangue-en-trompe-loeil-a-partir-de-10-ans/
ATTACH;FMTTYPE=image/jpeg:https://debodelices.fr/wp-content/uploads/2026/03/IMG_3439.jpg
END:VEVENT
END:VCALENDAR