BEGIN:VCALENDAR
VERSION:2.0
PRODID:-//Debodelices - ECPv6.8.0//NONSGML v1.0//EN
CALSCALE:GREGORIAN
METHOD:PUBLISH
X-ORIGINAL-URL:https://debodelices.fr
X-WR-CALDESC:Évènements pour Debodelices
REFRESH-INTERVAL;VALUE=DURATION:PT1H
X-Robots-Tag:noindex
X-PUBLISHED-TTL:PT1H
BEGIN:VTIMEZONE
TZID:UTC
BEGIN:STANDARD
TZOFFSETFROM:+0000
TZOFFSETTO:+0000
TZNAME:UTC
DTSTART:20260101T000000
END:STANDARD
END:VTIMEZONE
BEGIN:VEVENT
DTSTART;TZID=UTC:20260316T090000
DTEND;TZID=UTC:20260316T120000
DTSTAMP:20260421T155239
CREATED:20260205T071624Z
LAST-MODIFIED:20260205T071624Z
UID:10000065-1773651600-1773662400@debodelices.fr
SUMMARY:THE TEA TIME
DESCRIPTION:
URL:https://debodelices.fr/event/the-tea-time-13/
ATTACH;FMTTYPE=image/jpeg:https://debodelices.fr/wp-content/uploads/2024/12/Debodelice-background.jpg
END:VEVENT
END:VCALENDAR