BEGIN:VCALENDAR
VERSION:2.0
PRODID:-//Debodelices - ECPv6.8.0//NONSGML v1.0//EN
CALSCALE:GREGORIAN
METHOD:PUBLISH
X-WR-CALNAME:Debodelices
X-ORIGINAL-URL:https://debodelices.fr
X-WR-CALDESC:Évènements pour Debodelices
REFRESH-INTERVAL;VALUE=DURATION:PT1H
X-Robots-Tag:noindex
X-PUBLISHED-TTL:PT1H
BEGIN:VTIMEZONE
TZID:UTC
BEGIN:STANDARD
TZOFFSETFROM:+0000
TZOFFSETTO:+0000
TZNAME:UTC
DTSTART:20260101T000000
END:STANDARD
END:VTIMEZONE
BEGIN:VEVENT
DTSTART;TZID=UTC:20260304T143000
DTEND;TZID=UTC:20260304T163000
DTSTAMP:20260421T160807
CREATED:20260202T080757Z
LAST-MODIFIED:20260202T080757Z
UID:10000062-1772634600-1772641800@debodelices.fr
SUMMARY:THE COOKIES ET PATE A TARTINER MAISON
DESCRIPTION:
URL:https://debodelices.fr/event/the-cookies-et-pate-a-tartiner-maison-7/
ATTACH;FMTTYPE=image/jpeg:https://debodelices.fr/wp-content/uploads/2026/02/IMG_2254-2.jpg
END:VEVENT
END:VCALENDAR