BEGIN:VCALENDAR
VERSION:2.0
PRODID:-//Debodelices - ECPv6.8.0//NONSGML v1.0//EN
CALSCALE:GREGORIAN
METHOD:PUBLISH
X-WR-CALNAME:Debodelices
X-ORIGINAL-URL:https://debodelices.fr
X-WR-CALDESC:Évènements pour Debodelices
REFRESH-INTERVAL;VALUE=DURATION:PT1H
X-Robots-Tag:noindex
X-PUBLISHED-TTL:PT1H
BEGIN:VTIMEZONE
TZID:UTC
BEGIN:STANDARD
TZOFFSETFROM:+0000
TZOFFSETTO:+0000
TZNAME:UTC
DTSTART:20260101T000000
END:STANDARD
END:VTIMEZONE
BEGIN:VEVENT
DTSTART;TZID=UTC:20260204T150000
DTEND;TZID=UTC:20260204T170000
DTSTAMP:20260421T174108
CREATED:20251210T090234Z
LAST-MODIFIED:20251210T090234Z
UID:10000059-1770217200-1770224400@debodelices.fr
SUMMARY:NUMBER CAKE DUO PARENT/ENFANT( 3 à 7 ans)
DESCRIPTION:
URL:https://debodelices.fr/event/number-cake-duo-parent-enfant-3-a-7-ans/
ATTACH;FMTTYPE=image/jpeg:https://debodelices.fr/wp-content/uploads/2024/12/thumbnail_IMG_7822-scaled.jpg
END:VEVENT
END:VCALENDAR