BEGIN:VCALENDAR
VERSION:2.0
PRODID:-//Debodelices - ECPv6.8.0//NONSGML v1.0//EN
CALSCALE:GREGORIAN
METHOD:PUBLISH
X-ORIGINAL-URL:https://debodelices.fr
X-WR-CALDESC:Évènements pour Debodelices
REFRESH-INTERVAL;VALUE=DURATION:PT1H
X-Robots-Tag:noindex
X-PUBLISHED-TTL:PT1H
BEGIN:VTIMEZONE
TZID:UTC
BEGIN:STANDARD
TZOFFSETFROM:+0000
TZOFFSETTO:+0000
TZNAME:UTC
DTSTART:20250101T000000
END:STANDARD
END:VTIMEZONE
BEGIN:VEVENT
DTSTART;TZID=UTC:20251001T150000
DTEND;TZID=UTC:20251001T170000
DTSTAMP:20260422T010915
CREATED:20250921T152606Z
LAST-MODIFIED:20250921T152606Z
UID:10000044-1759330800-1759338000@debodelices.fr
SUMMARY:THE COOKIES ET PATE A TARTINER MAISON / COURS ENFANT
DESCRIPTION:
URL:https://debodelices.fr/event/the-cookies-et-pate-a-tartiner-maison-cours-enfant/
ATTACH;FMTTYPE=image/png:https://debodelices.fr/wp-content/uploads/2024/10/img-4-13.png
END:VEVENT
END:VCALENDAR