BEGIN:VCALENDAR
VERSION:2.0
PRODID:-//Debodelices - ECPv6.8.0//NONSGML v1.0//EN
CALSCALE:GREGORIAN
METHOD:PUBLISH
X-ORIGINAL-URL:https://debodelices.fr
X-WR-CALDESC:Évènements pour Debodelices
REFRESH-INTERVAL;VALUE=DURATION:PT1H
X-Robots-Tag:noindex
X-PUBLISHED-TTL:PT1H
BEGIN:VTIMEZONE
TZID:UTC
BEGIN:STANDARD
TZOFFSETFROM:+0000
TZOFFSETTO:+0000
TZNAME:UTC
DTSTART:20250101T000000
END:STANDARD
END:VTIMEZONE
BEGIN:VEVENT
DTSTART;TZID=UTC:20250528T150000
DTEND;TZID=UTC:20250528T170000
DTSTAMP:20260422T082939
CREATED:20250505T064643Z
LAST-MODIFIED:20250505T064643Z
UID:10000031-1748444400-1748451600@debodelices.fr
SUMMARY:MAGNUM CAKE-COURS DUO PARENT/ENFANT
DESCRIPTION:
URL:https://debodelices.fr/event/magnum-cake-cours-duo-parent-enfant/
ATTACH;FMTTYPE=image/png:https://debodelices.fr/wp-content/uploads/2024/10/img-1-48.png
END:VEVENT
END:VCALENDAR