BEGIN:VCALENDAR
VERSION:2.0
PRODID:-//Debodelices - ECPv6.8.0//NONSGML v1.0//EN
CALSCALE:GREGORIAN
METHOD:PUBLISH
X-ORIGINAL-URL:https://debodelices.fr
X-WR-CALDESC:Évènements pour Debodelices
REFRESH-INTERVAL;VALUE=DURATION:PT1H
X-Robots-Tag:noindex
X-PUBLISHED-TTL:PT1H
BEGIN:VTIMEZONE
TZID:UTC
BEGIN:STANDARD
TZOFFSETFROM:+0000
TZOFFSETTO:+0000
TZNAME:UTC
DTSTART:20250101T000000
END:STANDARD
END:VTIMEZONE
BEGIN:VEVENT
DTSTART;TZID=UTC:20250129T150000
DTEND;TZID=UTC:20250129T170000
DTSTAMP:20260422T152630
CREATED:20241201T112653Z
LAST-MODIFIED:20241206T080007Z
UID:10000010-1738162800-1738170000@debodelices.fr
SUMMARY:Cours duo 1 parent + 1 enfant (de 3 à 6 ans) "le number Cake" DESCRIPTION:
URL:https://debodelices.fr/event/cours-duo-1-parent-1-enfant-de-3-a-6-ans-le-number-cake-2/
ATTACH;FMTTYPE=image/jpeg:https://debodelices.fr/wp-content/uploads/2024/12/thumbnail_IMG_7822-scaled.jpg
END:VEVENT
END:VCALENDAR